BEGIN:VCALENDAR
VERSION:2.0
PRODID:-//Short or Tall - ECPv6.15.20//NONSGML v1.0//EN
CALSCALE:GREGORIAN
METHOD:PUBLISH
X-WR-CALNAME:Short or Tall
X-ORIGINAL-URL:https://www.shortortall.com
X-WR-CALDESC:Events for Short or Tall
REFRESH-INTERVAL;VALUE=DURATION:PT1H
X-Robots-Tag:noindex
X-PUBLISHED-TTL:PT1H
BEGIN:VTIMEZONE
TZID:America/Chicago
BEGIN:DAYLIGHT
TZOFFSETFROM:-0600
TZOFFSETTO:-0500
TZNAME:CDT
DTSTART:20230312T080000
END:DAYLIGHT
BEGIN:STANDARD
TZOFFSETFROM:-0500
TZOFFSETTO:-0600
TZNAME:CST
DTSTART:20231105T070000
END:STANDARD
BEGIN:DAYLIGHT
TZOFFSETFROM:-0600
TZOFFSETTO:-0500
TZNAME:CDT
DTSTART:20240310T080000
END:DAYLIGHT
BEGIN:STANDARD
TZOFFSETFROM:-0500
TZOFFSETTO:-0600
TZNAME:CST
DTSTART:20241103T070000
END:STANDARD
BEGIN:DAYLIGHT
TZOFFSETFROM:-0600
TZOFFSETTO:-0500
TZNAME:CDT
DTSTART:20250309T080000
END:DAYLIGHT
BEGIN:STANDARD
TZOFFSETFROM:-0500
TZOFFSETTO:-0600
TZNAME:CST
DTSTART:20251102T070000
END:STANDARD
END:VTIMEZONE
BEGIN:VEVENT
DTSTART;TZID=America/Chicago:20241006T033000
DTEND;TZID=America/Chicago:20241006T073000
DTSTAMP:20260419T112745
CREATED:20240827T154315Z
LAST-MODIFIED:20241003T023606Z
UID:10014868-1728185400-1728199800@www.shortortall.com
SUMMARY:New York Jets at Minnesota Vikings
DESCRIPTION:Watch the game on NFL NETWORK\n—\nDownload official Minnesota Vikings app:\niOS (https://apps.apple.com/app/id502877810)\nAndroid (https://play.google.com/store/apps/details?id=com.yinzcam.nfl.vikings)\nhttps://www.vikings.com
URL:https://www.shortortall.com/calendar-event/new-york-jets-at-minnesota-vikings/
LOCATION:Tottenham Hotspur Stadium\, London\, United Kingdom
CATEGORIES:Minnesota Vikings
GEO:51.5072648;-0.1278328
END:VEVENT
END:VCALENDAR