BEGIN:VCALENDAR
VERSION:2.0
PRODID:-//Short or Tall - ECPv6.15.20//NONSGML v1.0//EN
CALSCALE:GREGORIAN
METHOD:PUBLISH
X-WR-CALNAME:Short or Tall
X-ORIGINAL-URL:https://www.shortortall.com
X-WR-CALDESC:Events for Short or Tall
REFRESH-INTERVAL;VALUE=DURATION:PT1H
X-Robots-Tag:noindex
X-PUBLISHED-TTL:PT1H
BEGIN:VTIMEZONE
TZID:America/Chicago
BEGIN:DAYLIGHT
TZOFFSETFROM:-0600
TZOFFSETTO:-0500
TZNAME:CDT
DTSTART:20240310T080000
END:DAYLIGHT
BEGIN:STANDARD
TZOFFSETFROM:-0500
TZOFFSETTO:-0600
TZNAME:CST
DTSTART:20241103T070000
END:STANDARD
BEGIN:DAYLIGHT
TZOFFSETFROM:-0600
TZOFFSETTO:-0500
TZNAME:CDT
DTSTART:20250309T080000
END:DAYLIGHT
BEGIN:STANDARD
TZOFFSETFROM:-0500
TZOFFSETTO:-0600
TZNAME:CST
DTSTART:20251102T070000
END:STANDARD
BEGIN:DAYLIGHT
TZOFFSETFROM:-0600
TZOFFSETTO:-0500
TZNAME:CDT
DTSTART:20260308T080000
END:DAYLIGHT
BEGIN:STANDARD
TZOFFSETFROM:-0500
TZOFFSETTO:-0600
TZNAME:CST
DTSTART:20261101T070000
END:STANDARD
END:VTIMEZONE
BEGIN:VEVENT
DTSTART;TZID=America/Chicago:20250222T143000
DTEND;TZID=America/Chicago:20250222T163000
DTSTAMP:20260425T061940
CREATED:20240827T145200Z
LAST-MODIFIED:20241108T155612Z
UID:10014853-1740234600-1740241800@www.shortortall.com
SUMMARY:🏒 Minnesota Wild @ Detroit Red Wings
DESCRIPTION:Manage my ECAL\nhttps://ecal.ai/f/x7Zqq/2LmmV
URL:https://www.shortortall.com/calendar-event/%f0%9f%8f%92-minnesota-wild-detroit-red-wings-2/
LOCATION:Little Caesars Arena
CATEGORIES:Minnesota Wild
END:VEVENT
BEGIN:VEVENT
DTSTART;TZID=America/Chicago:20250104T180000
DTEND;TZID=America/Chicago:20250104T180000
DTSTAMP:20260425T061940
CREATED:20241231T153111Z
LAST-MODIFIED:20241231T153315Z
UID:10014941-1736013600-1736013600@www.shortortall.com
SUMMARY:Timberwolves at Pistons
DESCRIPTION:📺 Tune-In: FanDuel Sports Network – North\n🎟️ Get tickets: https://on.nba.com/3X1bNBT\n🏀 Shop Minnesota Timberwolves: https://shop.timberwolves.com/
URL:https://www.shortortall.com/calendar-event/timberwolves-at-pistons/
LOCATION:Little Caesars Arena
CATEGORIES:Minnesota Timberwolves
END:VEVENT
END:VCALENDAR