BEGIN:VCALENDAR
VERSION:2.0
PRODID:-//Short or Tall - ECPv6.15.20//NONSGML v1.0//EN
CALSCALE:GREGORIAN
METHOD:PUBLISH
X-WR-CALNAME:Short or Tall
X-ORIGINAL-URL:https://www.shortortall.com
X-WR-CALDESC:Events for Short or Tall
REFRESH-INTERVAL;VALUE=DURATION:PT1H
X-Robots-Tag:noindex
X-PUBLISHED-TTL:PT1H
BEGIN:VTIMEZONE
TZID:America/Chicago
BEGIN:DAYLIGHT
TZOFFSETFROM:-0600
TZOFFSETTO:-0500
TZNAME:CDT
DTSTART:20230312T080000
END:DAYLIGHT
BEGIN:STANDARD
TZOFFSETFROM:-0500
TZOFFSETTO:-0600
TZNAME:CST
DTSTART:20231105T070000
END:STANDARD
BEGIN:DAYLIGHT
TZOFFSETFROM:-0600
TZOFFSETTO:-0500
TZNAME:CDT
DTSTART:20240310T080000
END:DAYLIGHT
BEGIN:STANDARD
TZOFFSETFROM:-0500
TZOFFSETTO:-0600
TZNAME:CST
DTSTART:20241103T070000
END:STANDARD
BEGIN:DAYLIGHT
TZOFFSETFROM:-0600
TZOFFSETTO:-0500
TZNAME:CDT
DTSTART:20250309T080000
END:DAYLIGHT
BEGIN:STANDARD
TZOFFSETFROM:-0500
TZOFFSETTO:-0600
TZNAME:CST
DTSTART:20251102T070000
END:STANDARD
END:VTIMEZONE
BEGIN:VEVENT
DTSTART;TZID=America/Chicago:20241206T210000
DTEND;TZID=America/Chicago:20241206T230000
DTSTAMP:20260425T075542
CREATED:20240827T145134Z
LAST-MODIFIED:20241108T155618Z
UID:10014822-1733518800-1733526000@www.shortortall.com
SUMMARY:🏒 Minnesota Wild @ Anaheim Ducks
DESCRIPTION:Manage my ECAL\nhttps://ecal.ai/f/x7YKB/2LmmV
URL:https://www.shortortall.com/calendar-event/%f0%9f%8f%92-minnesota-wild-anaheim-ducks-4/
LOCATION:Honda Center
CATEGORIES:Minnesota Wild
END:VEVENT
BEGIN:VEVENT
DTSTART;TZID=America/Chicago:20241108T210000
DTEND;TZID=America/Chicago:20241108T230000
DTSTAMP:20260425T075542
CREATED:20240827T145124Z
LAST-MODIFIED:20241108T155418Z
UID:10014810-1731099600-1731106800@www.shortortall.com
SUMMARY:🏒 Minnesota Wild @ Anaheim Ducks
DESCRIPTION:Manage my ECAL\nhttps://ecal.ai/f/x7Xj2/2QYXw
URL:https://www.shortortall.com/calendar-event/%f0%9f%8f%92-minnesota-wild-anaheim-ducks-3/
LOCATION:Honda Center
CATEGORIES:Minnesota Wild
END:VEVENT
END:VCALENDAR