BEGIN:VCALENDAR
VERSION:2.0
PRODID:-//Short or Tall - ECPv6.15.20//NONSGML v1.0//EN
CALSCALE:GREGORIAN
METHOD:PUBLISH
X-WR-CALNAME:Short or Tall
X-ORIGINAL-URL:https://www.shortortall.com
X-WR-CALDESC:Events for Short or Tall
REFRESH-INTERVAL;VALUE=DURATION:PT1H
X-Robots-Tag:noindex
X-PUBLISHED-TTL:PT1H
BEGIN:VTIMEZONE
TZID:America/Chicago
BEGIN:DAYLIGHT
TZOFFSETFROM:-0600
TZOFFSETTO:-0500
TZNAME:CDT
DTSTART:20220313T080000
END:DAYLIGHT
BEGIN:STANDARD
TZOFFSETFROM:-0500
TZOFFSETTO:-0600
TZNAME:CST
DTSTART:20221106T070000
END:STANDARD
BEGIN:DAYLIGHT
TZOFFSETFROM:-0600
TZOFFSETTO:-0500
TZNAME:CDT
DTSTART:20230312T080000
END:DAYLIGHT
BEGIN:STANDARD
TZOFFSETFROM:-0500
TZOFFSETTO:-0600
TZNAME:CST
DTSTART:20231105T070000
END:STANDARD
BEGIN:DAYLIGHT
TZOFFSETFROM:-0600
TZOFFSETTO:-0500
TZNAME:CDT
DTSTART:20240310T080000
END:DAYLIGHT
BEGIN:STANDARD
TZOFFSETFROM:-0500
TZOFFSETTO:-0600
TZNAME:CST
DTSTART:20241103T070000
END:STANDARD
END:VTIMEZONE
BEGIN:VEVENT
DTSTART;TZID=America/Chicago:20231210T150500
DTEND;TZID=America/Chicago:20231210T180500
DTSTAMP:20260419T083912
CREATED:20231108T194751Z
LAST-MODIFIED:20231108T194751Z
UID:10014240-1702220700-1702231500@www.shortortall.com
SUMMARY:Minnesota Vikings vs Las Vegas Raiders
DESCRIPTION:Join us at Short or Tall to watch the Vikings take on the Las Vegas Raiders!\n\n\n\nGame Day specials:\n $8 Brat Basket\n $10 Cheeseburger Basket\n $12 Bacon Cheeseburger Basket\n $10 Sloppy Joe Basket\n\n\n\nDrink Specials:\n $3 Domestics\n $4 Utepils Skolsch\n $4 Surly Before I Die\n $5 Surly Furious
URL:https://www.shortortall.com/calendar-event/minnesota-vikings-vs-las-vegas-raiders/
LOCATION:Short or Tall Eatery & Drink Hall\, 21050 135th Avenue North\, Rogers\, MN\, 55374\, United States
CATEGORIES:Short or Tall
ATTACH;FMTTYPE=image/png:https://www.shortortall.com/wp-content/uploads/2023/11/SOT-Facebook-Event-Cover-1200-×-630-px-5.png
GEO:45.200613;-93.547324
X-APPLE-STRUCTURED-LOCATION;VALUE=URI;X-ADDRESS=Short or Tall Eatery & Drink Hall 21050 135th Avenue North Rogers MN 55374 United States;X-APPLE-RADIUS=500;X-TITLE=21050 135th Avenue North:geo:-93.547324,45.200613
END:VEVENT
BEGIN:VEVENT
DTSTART;TZID=America/Chicago:20231210T200000
DTEND;TZID=America/Chicago:20231210T200000
DTSTAMP:20260419T083912
CREATED:20231108T164910Z
LAST-MODIFIED:20231108T164910Z
UID:10014181-1702238400-1702238400@www.shortortall.com
SUMMARY:Minnesota Wild vs Seattle Kraken
DESCRIPTION:
URL:https://www.shortortall.com/calendar-event/minnesota-wild-vs-seattle-kraken/
END:VEVENT
BEGIN:VEVENT
DTSTART;TZID=America/Chicago:20231211T190000
DTEND;TZID=America/Chicago:20231211T210000
DTSTAMP:20260419T083912
CREATED:20231113T211611Z
LAST-MODIFIED:20231127T170230Z
UID:10014265-1702321200-1702328400@www.shortortall.com
SUMMARY:Wolves vs Pelicans
DESCRIPTION:Grab your friends and family as we cheer on the Minnesota Timberwolves!
URL:https://www.shortortall.com/calendar-event/wolves-vs-pelicans-02/
LOCATION:Short or Tall Eatery & Drink Hall\, 21050 135th Avenue North\, Rogers\, MN\, 55374\, United States
CATEGORIES:Short or Tall
ATTACH;FMTTYPE=image/png:https://www.shortortall.com/wp-content/uploads/2023/11/SOT-Facebook-Event-Cover-1200-×-630-px-10-1.png
GEO:45.200613;-93.547324
X-APPLE-STRUCTURED-LOCATION;VALUE=URI;X-ADDRESS=Short or Tall Eatery & Drink Hall 21050 135th Avenue North Rogers MN 55374 United States;X-APPLE-RADIUS=500;X-TITLE=21050 135th Avenue North:geo:-93.547324,45.200613
END:VEVENT
BEGIN:VEVENT
DTSTART;TZID=America/Chicago:20231214T190000
DTEND;TZID=America/Chicago:20231214T190000
DTSTAMP:20260419T083912
CREATED:20231108T164910Z
LAST-MODIFIED:20231108T164910Z
UID:10014182-1702580400-1702580400@www.shortortall.com
SUMMARY:Minnesota Wild vs Calgary Flames
DESCRIPTION:
URL:https://www.shortortall.com/calendar-event/minnesota-wild-vs-calgary-flames-2/
END:VEVENT
BEGIN:VEVENT
DTSTART;TZID=America/Chicago:20231214T193000
DTEND;TZID=America/Chicago:20231214T213000
DTSTAMP:20260419T083912
CREATED:20231113T211615Z
LAST-MODIFIED:20231127T170432Z
UID:10014268-1702582200-1702589400@www.shortortall.com
SUMMARY:Wolves vs Mavericks
DESCRIPTION:Grab your friends and family as we cheer on the Minnesota Timberwolves from Short or Tall!
URL:https://www.shortortall.com/calendar-event/wolves-vs-mavericks-7/
CATEGORIES:Short or Tall
ATTACH;FMTTYPE=image/png:https://www.shortortall.com/wp-content/uploads/2023/11/SOT-Facebook-Event-Cover-1200-×-630-px-10-1.png
END:VEVENT
BEGIN:VEVENT
DTSTART;TZID=America/Chicago:20231216T130000
DTEND;TZID=America/Chicago:20231216T130000
DTSTAMP:20260419T083912
CREATED:20231108T164919Z
LAST-MODIFIED:20231108T164919Z
UID:10014183-1702731600-1702731600@www.shortortall.com
SUMMARY:Minnesota Wild vs Vancouver Canucks
DESCRIPTION:
URL:https://www.shortortall.com/calendar-event/minnesota-wild-vs-vancouver-canucks-2/
END:VEVENT
BEGIN:VEVENT
DTSTART;TZID=America/Chicago:20231216T190000
DTEND;TZID=America/Chicago:20231216T210000
DTSTAMP:20260419T083912
CREATED:20231113T211616Z
LAST-MODIFIED:20231127T170545Z
UID:10014269-1702753200-1702760400@www.shortortall.com
SUMMARY:Wolves vs Pacers
DESCRIPTION:Grab your friends and family as we cheer on the Minnesota Timberwolves from Short or Tall!
URL:https://www.shortortall.com/calendar-event/wolves-vs-pacers-2/
CATEGORIES:Short or Tall
ATTACH;FMTTYPE=image/png:https://www.shortortall.com/wp-content/uploads/2023/11/SOT-Facebook-Event-Cover-1200-×-630-px-10-1.png
END:VEVENT
END:VCALENDAR