BEGIN:VCALENDAR
VERSION:2.0
PRODID:-//Short or Tall - ECPv6.15.20//NONSGML v1.0//EN
CALSCALE:GREGORIAN
METHOD:PUBLISH
X-ORIGINAL-URL:https://www.shortortall.com
X-WR-CALDESC:Events for Short or Tall
REFRESH-INTERVAL;VALUE=DURATION:PT1H
X-Robots-Tag:noindex
X-PUBLISHED-TTL:PT1H
BEGIN:VTIMEZONE
TZID:America/Chicago
BEGIN:DAYLIGHT
TZOFFSETFROM:-0600
TZOFFSETTO:-0500
TZNAME:CDT
DTSTART:20240310T080000
END:DAYLIGHT
BEGIN:STANDARD
TZOFFSETFROM:-0500
TZOFFSETTO:-0600
TZNAME:CST
DTSTART:20241103T070000
END:STANDARD
BEGIN:DAYLIGHT
TZOFFSETFROM:-0600
TZOFFSETTO:-0500
TZNAME:CDT
DTSTART:20250309T080000
END:DAYLIGHT
BEGIN:STANDARD
TZOFFSETFROM:-0500
TZOFFSETTO:-0600
TZNAME:CST
DTSTART:20251102T070000
END:STANDARD
BEGIN:DAYLIGHT
TZOFFSETFROM:-0600
TZOFFSETTO:-0500
TZNAME:CDT
DTSTART:20260308T080000
END:DAYLIGHT
BEGIN:STANDARD
TZOFFSETFROM:-0500
TZOFFSETTO:-0600
TZNAME:CST
DTSTART:20261101T070000
END:STANDARD
BEGIN:DAYLIGHT
TZOFFSETFROM:-0600
TZOFFSETTO:-0500
TZNAME:CDT
DTSTART:20270314T080000
END:DAYLIGHT
BEGIN:STANDARD
TZOFFSETFROM:-0500
TZOFFSETTO:-0600
TZNAME:CST
DTSTART:20271107T070000
END:STANDARD
END:VTIMEZONE
BEGIN:VEVENT
DTSTART;TZID=America/Chicago:20250324T180000
DTEND;TZID=America/Chicago:20250324T180000
DTSTAMP:20260422T084112
CREATED:20241231T153117Z
LAST-MODIFIED:20241231T153310Z
UID:10014980-1742839200-1742839200@www.shortortall.com
SUMMARY:Timberwolves at Pacers
DESCRIPTION:📺 Tune-In: FDSNNOX\n🎟️ Get tickets: https://on.nba.com/3X1bNBT\n🏀 Shop Minnesota Timberwolves: https://shop.timberwolves.com/
URL:https://www.shortortall.com/calendar-event/timberwolves-at-pacers-2/
LOCATION:Gainbridge Fieldhouse
CATEGORIES:Minnesota Timberwolves
END:VEVENT
BEGIN:VEVENT
DTSTART;TZID=America/Chicago:20250328T190000
DTEND;TZID=America/Chicago:20250328T190000
DTSTAMP:20260422T084112
CREATED:20241231T153117Z
LAST-MODIFIED:20241231T153310Z
UID:10014981-1743188400-1743188400@www.shortortall.com
SUMMARY:Timberwolves vs. Suns
DESCRIPTION:📺 Tune-In: FanDuel Sports Network – North / NBA TV\n    🎟️ Get tickets: https://on.nba.com/3X1bNBT\n    🏀 Shop Minnesota Timberwolves: https://shop.timberwolves.com/
URL:https://www.shortortall.com/calendar-event/timberwolves-vs-suns-2/
LOCATION:Target Center
CATEGORIES:Minnesota Timberwolves
END:VEVENT
BEGIN:VEVENT
DTSTART;TZID=America/Chicago:20250330T180000
DTEND;TZID=America/Chicago:20250330T180000
DTSTAMP:20260422T084112
CREATED:20241231T153117Z
LAST-MODIFIED:20241231T153310Z
UID:10014982-1743357600-1743357600@www.shortortall.com
SUMMARY:Timberwolves vs. Pistons
DESCRIPTION:📺 Tune-In: FanDuel Sports Network – North\n    🎟️ Get tickets: https://on.nba.com/3X1bNBT\n    🏀 Shop Minnesota Timberwolves: https://shop.timberwolves.com/
URL:https://www.shortortall.com/calendar-event/timberwolves-vs-pistons-2/
LOCATION:Target Center
CATEGORIES:Minnesota Timberwolves
END:VEVENT
BEGIN:VEVENT
DTSTART;TZID=America/Chicago:20250401T210000
DTEND;TZID=America/Chicago:20250401T210000
DTSTAMP:20260422T084112
CREATED:20241231T153117Z
LAST-MODIFIED:20241231T153309Z
UID:10014983-1743541200-1743541200@www.shortortall.com
SUMMARY:Timberwolves at Nuggets
DESCRIPTION:📺 Tune-In: TNT/truTV/Max\n🎟️ Get tickets: https://on.nba.com/3X1bNBT\n🏀 Shop Minnesota Timberwolves: https://shop.timberwolves.com/
URL:https://www.shortortall.com/calendar-event/timberwolves-at-nuggets-4/
LOCATION:Ball Arena
CATEGORIES:Minnesota Timberwolves
END:VEVENT
BEGIN:VEVENT
DTSTART;TZID=America/Chicago:20250403T183000
DTEND;TZID=America/Chicago:20250403T183000
DTSTAMP:20260422T084112
CREATED:20241231T153117Z
LAST-MODIFIED:20241231T153309Z
UID:10014984-1743705000-1743705000@www.shortortall.com
SUMMARY:Timberwolves at Nets
DESCRIPTION:📺 Tune-In: FanDuel Sports Network – North\n🎟️ Get tickets: https://on.nba.com/3X1bNBT\n🏀 Shop Minnesota Timberwolves: https://shop.timberwolves.com/
URL:https://www.shortortall.com/calendar-event/timberwolves-at-nets/
LOCATION:Barclays Center
CATEGORIES:Minnesota Timberwolves
END:VEVENT
BEGIN:VEVENT
DTSTART;TZID=America/Chicago:20250405T180000
DTEND;TZID=America/Chicago:20250405T180000
DTSTAMP:20260422T084112
CREATED:20241231T153118Z
LAST-MODIFIED:20241231T153309Z
UID:10014985-1743876000-1743876000@www.shortortall.com
SUMMARY:Timberwolves at 76ers
DESCRIPTION:📺 Tune-In: FanDuel Sports Network – North\n🎟️ Get tickets: https://on.nba.com/3X1bNBT\n🏀 Shop Minnesota Timberwolves: https://shop.timberwolves.com/
URL:https://www.shortortall.com/calendar-event/timberwolves-at-76ers/
LOCATION:Wells Fargo Center
CATEGORIES:Minnesota Timberwolves
END:VEVENT
BEGIN:VEVENT
DTSTART;TZID=America/Chicago:20250408T190000
DTEND;TZID=America/Chicago:20250408T190000
DTSTAMP:20260422T084112
CREATED:20241231T153118Z
LAST-MODIFIED:20241231T153309Z
UID:10014986-1744138800-1744138800@www.shortortall.com
SUMMARY:Timberwolves at Bucks
DESCRIPTION:📺 Tune-In: FanDuel Sports Network – North\n🎟️ Get tickets: https://on.nba.com/3X1bNBT\n🏀 Shop Minnesota Timberwolves: https://shop.timberwolves.com/
URL:https://www.shortortall.com/calendar-event/timberwolves-at-bucks-2/
LOCATION:Fiserv Forum
CATEGORIES:Minnesota Timberwolves
END:VEVENT
BEGIN:VEVENT
DTSTART;TZID=America/Chicago:20250410T203000
DTEND;TZID=America/Chicago:20250410T203000
DTSTAMP:20260422T084112
CREATED:20241231T153118Z
LAST-MODIFIED:20241231T153309Z
UID:10014987-1744317000-1744317000@www.shortortall.com
SUMMARY:Timberwolves at Grizzlies
DESCRIPTION:📺 Tune-In: FanDuel Sports Network – North / TNT/truTV/Max\n🎟️ Get tickets: https://on.nba.com/3X1bNBT\n🏀 Shop Minnesota Timberwolves: https://shop.timberwolves.com/
URL:https://www.shortortall.com/calendar-event/timberwolves-at-grizzlies-2/
LOCATION:FedExForum
CATEGORIES:Minnesota Timberwolves
END:VEVENT
BEGIN:VEVENT
DTSTART;TZID=America/Chicago:20250411T200000
DTEND;TZID=America/Chicago:20250411T200000
DTSTAMP:20260422T084112
CREATED:20241231T153118Z
LAST-MODIFIED:20241231T153309Z
UID:10014988-1744401600-1744401600@www.shortortall.com
SUMMARY:Timberwolves vs. Nets
DESCRIPTION:📺 Tune-In: FanDuel Sports Network – North\n    🎟️ Get tickets: https://on.nba.com/3X1bNBT\n    🏀 Shop Minnesota Timberwolves: https://shop.timberwolves.com/
URL:https://www.shortortall.com/calendar-event/timberwolves-vs-nets-2/
LOCATION:Target Center
CATEGORIES:Minnesota Timberwolves
END:VEVENT
BEGIN:VEVENT
DTSTART;TZID=America/Chicago:20250413T143000
DTEND;TZID=America/Chicago:20250413T143000
DTSTAMP:20260422T084112
CREATED:20241231T153118Z
LAST-MODIFIED:20241231T153309Z
UID:10014989-1744554600-1744554600@www.shortortall.com
SUMMARY:Timberwolves vs. Jazz
DESCRIPTION:📺 Tune-In: FDSNNO/KARE 11\n    🎟️ Get tickets: https://on.nba.com/3X1bNBT\n    🏀 Shop Minnesota Timberwolves: https://shop.timberwolves.com/
URL:https://www.shortortall.com/calendar-event/timberwolves-vs-jazz-2/
LOCATION:Target Center
CATEGORIES:Minnesota Timberwolves
END:VEVENT
BEGIN:VEVENT
DTSTART;TZID=America/Chicago:20250921T120000
DTEND;TZID=America/Chicago:20250921T150000
DTSTAMP:20260422T084112
CREATED:20250915T180108Z
LAST-MODIFIED:20250915T181258Z
UID:10014990-1758456000-1758466800@www.shortortall.com
SUMMARY:Bengals @ Vikings
DESCRIPTION:
URL:https://www.shortortall.com/calendar-event/bengals-vikings/
LOCATION:MN
CATEGORIES:Minnesota Vikings
END:VEVENT
BEGIN:VEVENT
DTSTART;TZID=America/Chicago:20250928T083000
DTEND;TZID=America/Chicago:20250928T113000
DTSTAMP:20260422T084112
CREATED:20250915T180109Z
LAST-MODIFIED:20250915T181254Z
UID:10014991-1759048200-1759059000@www.shortortall.com
SUMMARY:Vikings @ Steelers
DESCRIPTION:
URL:https://www.shortortall.com/calendar-event/vikings-steelers/
LOCATION:MN
CATEGORIES:Minnesota Vikings
END:VEVENT
BEGIN:VEVENT
DTSTART;TZID=America/Chicago:20251005T083000
DTEND;TZID=America/Chicago:20251005T113000
DTSTAMP:20260422T084112
CREATED:20250915T180109Z
LAST-MODIFIED:20250915T181252Z
UID:10014992-1759653000-1759663800@www.shortortall.com
SUMMARY:Vikings @ Browns
DESCRIPTION:
URL:https://www.shortortall.com/calendar-event/vikings-browns/
LOCATION:MN
CATEGORIES:Minnesota Vikings
END:VEVENT
BEGIN:VEVENT
DTSTART;TZID=America/Chicago:20251019T120000
DTEND;TZID=America/Chicago:20251019T150000
DTSTAMP:20260422T084112
CREATED:20250915T180109Z
LAST-MODIFIED:20250915T181248Z
UID:10014993-1760875200-1760886000@www.shortortall.com
SUMMARY:Eagles @ Vikings
DESCRIPTION:
URL:https://www.shortortall.com/calendar-event/eagles-vikings/
LOCATION:MN
CATEGORIES:Minnesota Vikings
END:VEVENT
BEGIN:VEVENT
DTSTART;TZID=America/Chicago:20251023T191500
DTEND;TZID=America/Chicago:20251023T221500
DTSTAMP:20260422T084112
CREATED:20250915T180109Z
LAST-MODIFIED:20250915T181245Z
UID:10014994-1761246900-1761257700@www.shortortall.com
SUMMARY:Vikings @ Chargers
DESCRIPTION:
URL:https://www.shortortall.com/calendar-event/vikings-chargers/
LOCATION:MN
CATEGORIES:Minnesota Vikings
END:VEVENT
BEGIN:VEVENT
DTSTART;TZID=America/Chicago:20251102T120000
DTEND;TZID=America/Chicago:20251102T150000
DTSTAMP:20260422T084112
CREATED:20250915T180110Z
LAST-MODIFIED:20250915T181241Z
UID:10014995-1762084800-1762095600@www.shortortall.com
SUMMARY:Vikings @ Lions
DESCRIPTION:
URL:https://www.shortortall.com/calendar-event/vikings-lions/
LOCATION:MN
CATEGORIES:Minnesota Vikings
END:VEVENT
BEGIN:VEVENT
DTSTART;TZID=America/Chicago:20251109T120000
DTEND;TZID=America/Chicago:20251109T150000
DTSTAMP:20260422T084112
CREATED:20250915T180110Z
LAST-MODIFIED:20250915T181237Z
UID:10014996-1762689600-1762700400@www.shortortall.com
SUMMARY:Ravens @ Vikings
DESCRIPTION:
URL:https://www.shortortall.com/calendar-event/ravens-vikings/
LOCATION:MN
CATEGORIES:Minnesota Vikings
END:VEVENT
BEGIN:VEVENT
DTSTART;TZID=America/Chicago:20251116T120000
DTEND;TZID=America/Chicago:20251116T150000
DTSTAMP:20260422T084112
CREATED:20250915T180110Z
LAST-MODIFIED:20250915T181233Z
UID:10014997-1763294400-1763305200@www.shortortall.com
SUMMARY:Bears @ Vikings
DESCRIPTION:
URL:https://www.shortortall.com/calendar-event/bears-vikings/
LOCATION:MN
CATEGORIES:Minnesota Vikings
END:VEVENT
BEGIN:VEVENT
DTSTART;TZID=America/Chicago:20251123T120000
DTEND;TZID=America/Chicago:20251123T150000
DTSTAMP:20260422T084112
CREATED:20250915T180111Z
LAST-MODIFIED:20250915T181231Z
UID:10014998-1763899200-1763910000@www.shortortall.com
SUMMARY:Vikings @ Packers
DESCRIPTION:
URL:https://www.shortortall.com/calendar-event/vikings-packers/
LOCATION:MN
CATEGORIES:Minnesota Vikings
END:VEVENT
BEGIN:VEVENT
DTSTART;TZID=America/Chicago:20251130T150500
DTEND;TZID=America/Chicago:20251130T180500
DTSTAMP:20260422T084112
CREATED:20250915T180111Z
LAST-MODIFIED:20250915T181226Z
UID:10014999-1764515100-1764525900@www.shortortall.com
SUMMARY:Vikings @ Seahawks
DESCRIPTION:
URL:https://www.shortortall.com/calendar-event/vikings-seahawks/
LOCATION:MN
CATEGORIES:Minnesota Vikings
END:VEVENT
BEGIN:VEVENT
DTSTART;TZID=America/Chicago:20251207T120000
DTEND;TZID=America/Chicago:20251207T150000
DTSTAMP:20260422T084112
CREATED:20250915T180114Z
LAST-MODIFIED:20250915T181222Z
UID:10015000-1765108800-1765119600@www.shortortall.com
SUMMARY:Commanders @ Vikings
DESCRIPTION:
URL:https://www.shortortall.com/calendar-event/commanders-vikings/
LOCATION:MN
CATEGORIES:Minnesota Vikings
END:VEVENT
BEGIN:VEVENT
DTSTART;TZID=America/Chicago:20251214T192000
DTEND;TZID=America/Chicago:20251214T222000
DTSTAMP:20260422T084112
CREATED:20250915T180114Z
LAST-MODIFIED:20250915T181218Z
UID:10015001-1765740000-1765750800@www.shortortall.com
SUMMARY:Vikings @ Cowboys
DESCRIPTION:
URL:https://www.shortortall.com/calendar-event/vikings-cowboys/
LOCATION:MN
CATEGORIES:Minnesota Vikings
END:VEVENT
BEGIN:VEVENT
DTSTART;TZID=America/Chicago:20251221T120000
DTEND;TZID=America/Chicago:20251221T150000
DTSTAMP:20260422T084112
CREATED:20250915T180114Z
LAST-MODIFIED:20250915T181215Z
UID:10015002-1766318400-1766329200@www.shortortall.com
SUMMARY:Vikings @ Giants
DESCRIPTION:
URL:https://www.shortortall.com/calendar-event/vikings-giants/
LOCATION:MN
CATEGORIES:Minnesota Vikings
END:VEVENT
BEGIN:VEVENT
DTSTART;TZID=America/Chicago:20251225T153000
DTEND;TZID=America/Chicago:20251225T183000
DTSTAMP:20260422T084112
CREATED:20250915T180114Z
LAST-MODIFIED:20250915T181211Z
UID:10015003-1766676600-1766687400@www.shortortall.com
SUMMARY:Lions @ Vikings
DESCRIPTION:
URL:https://www.shortortall.com/calendar-event/lions-vikings/
LOCATION:MN
CATEGORIES:Minnesota Vikings
END:VEVENT
BEGIN:VEVENT
DTSTART;VALUE=DATE:20260103
DTEND;VALUE=DATE:20260105
DTSTAMP:20260422T084112
CREATED:20250915T180114Z
LAST-MODIFIED:20250915T181207Z
UID:10015004-1767463200-1767549599@www.shortortall.com
SUMMARY:Packers @ Vikings
DESCRIPTION:
URL:https://www.shortortall.com/calendar-event/packers-vikings/
LOCATION:MN
CATEGORIES:Minnesota Vikings
END:VEVENT
END:VCALENDAR