BEGIN:VCALENDAR
VERSION:2.0
PRODID:-//Short or Tall - ECPv6.15.20//NONSGML v1.0//EN
CALSCALE:GREGORIAN
METHOD:PUBLISH
X-WR-CALNAME:Short or Tall
X-ORIGINAL-URL:https://www.shortortall.com
X-WR-CALDESC:Events for Short or Tall
REFRESH-INTERVAL;VALUE=DURATION:PT1H
X-Robots-Tag:noindex
X-PUBLISHED-TTL:PT1H
BEGIN:VTIMEZONE
TZID:America/Chicago
BEGIN:DAYLIGHT
TZOFFSETFROM:-0600
TZOFFSETTO:-0500
TZNAME:CDT
DTSTART:20190310T080000
END:DAYLIGHT
BEGIN:STANDARD
TZOFFSETFROM:-0500
TZOFFSETTO:-0600
TZNAME:CST
DTSTART:20191103T070000
END:STANDARD
BEGIN:DAYLIGHT
TZOFFSETFROM:-0600
TZOFFSETTO:-0500
TZNAME:CDT
DTSTART:20200308T080000
END:DAYLIGHT
BEGIN:STANDARD
TZOFFSETFROM:-0500
TZOFFSETTO:-0600
TZNAME:CST
DTSTART:20201101T070000
END:STANDARD
BEGIN:DAYLIGHT
TZOFFSETFROM:-0600
TZOFFSETTO:-0500
TZNAME:CDT
DTSTART:20210314T080000
END:DAYLIGHT
BEGIN:STANDARD
TZOFFSETFROM:-0500
TZOFFSETTO:-0600
TZNAME:CST
DTSTART:20211107T070000
END:STANDARD
END:VTIMEZONE
BEGIN:VEVENT
DTSTART;TZID=America/Chicago:20200603T180000
DTEND;TZID=America/Chicago:20200603T210000
DTSTAMP:20260425T090504
CREATED:20191104T232549Z
LAST-MODIFIED:20200625T211907Z
UID:10012363-1591207200-1591218000@www.shortortall.com
SUMMARY:Ladies Night
DESCRIPTION:All signature cocktails and wine are half price for the ladies ALL DAY. Plus\, register to win prizes from 6-9pm — including a Coach purse.
URL:https://www.shortortall.com/calendar-event/ladies-night/2020-06-03/
LOCATION:21050 135th Avenue North\, Rogers\, MN\, 55374\, United States
END:VEVENT
BEGIN:VEVENT
DTSTART;VALUE=DATE:20200603
DTEND;VALUE=DATE:20200604
DTSTAMP:20260425T090504
CREATED:20200215T005503Z
LAST-MODIFIED:20200625T210705Z
UID:10012386-1591142400-1591228799@www.shortortall.com
SUMMARY:Game Day ALL DAY
DESCRIPTION:Join us EVERY Sunday for our ALL DAY game day menu & $3 tall domestics
URL:https://www.shortortall.com/calendar-event/game-day-all-day/2020-06-03/
LOCATION:Short or Tall Eatery & Drink Hall\, 21050 135th Avenue North\, Rogers\, MN\, 55374\, United States
GEO:45.200613;-93.547324
X-APPLE-STRUCTURED-LOCATION;VALUE=URI;X-ADDRESS=Short or Tall Eatery & Drink Hall 21050 135th Avenue North Rogers MN 55374 United States;X-APPLE-RADIUS=500;X-TITLE=21050 135th Avenue North:geo:-93.547324,45.200613
END:VEVENT
BEGIN:VEVENT
DTSTART;VALUE=DATE:20200603
DTEND;VALUE=DATE:20200604
DTSTAMP:20260425T090504
CREATED:20191208T193710Z
LAST-MODIFIED:20200625T210342Z
UID:10012365-1591142400-1591228799@www.shortortall.com
SUMMARY:$5 Burger Bliss
DESCRIPTION:$5 Original Burgers All Day!
URL:https://www.shortortall.com/calendar-event/5-original-burger/2020-06-03/
LOCATION:21050 135th Avenue North\, Rogers\, MN\, 55374\, United States
END:VEVENT
BEGIN:VEVENT
DTSTART;VALUE=DATE:20200601
DTEND;VALUE=DATE:20200602
DTSTAMP:20260425T090504
CREATED:20191104T232136Z
LAST-MODIFIED:20220912T132351Z
UID:10012331-1590969600-1591055999@www.shortortall.com
SUMMARY:Online Orders Discount
DESCRIPTION:All online orders for takeout are 25% off using the promo code MONDAY.
URL:https://www.shortortall.com/calendar-event/online-orders-discount/2020-06-01/
LOCATION:Short or Tall Eatery & Drink Hall\, 21050 135th Avenue North\, Rogers\, MN\, 55374\, United States
GEO:45.200613;-93.547324
X-APPLE-STRUCTURED-LOCATION;VALUE=URI;X-ADDRESS=Short or Tall Eatery & Drink Hall 21050 135th Avenue North Rogers MN 55374 United States;X-APPLE-RADIUS=500;X-TITLE=21050 135th Avenue North:geo:-93.547324,45.200613
END:VEVENT
BEGIN:VEVENT
DTSTART;VALUE=DATE:20200526
DTEND;VALUE=DATE:20200527
DTSTAMP:20260425T090504
CREATED:20200213T233529Z
LAST-MODIFIED:20200213T233529Z
UID:10012382-1590451200-1590537599@www.shortortall.com
SUMMARY:Beaver Island- Brewery Night
DESCRIPTION:Join us from 6pm-9pm for samples as well as 2 for 1’s on all Beaver Island products.
URL:https://www.shortortall.com/calendar-event/beaver-island-brewery-night/
LOCATION:21050 135th Avenue North\, Rogers\, MN\, 55374\, United States
END:VEVENT
BEGIN:VEVENT
DTSTART;VALUE=DATE:20200525
DTEND;VALUE=DATE:20200526
DTSTAMP:20260425T090504
CREATED:20191104T232136Z
LAST-MODIFIED:20220912T132351Z
UID:10012330-1590364800-1590451199@www.shortortall.com
SUMMARY:Online Orders Discount
DESCRIPTION:All online orders for takeout are 25% off using the promo code MONDAY.
URL:https://www.shortortall.com/calendar-event/online-orders-discount/2020-05-25/
LOCATION:Short or Tall Eatery & Drink Hall\, 21050 135th Avenue North\, Rogers\, MN\, 55374\, United States
GEO:45.200613;-93.547324
X-APPLE-STRUCTURED-LOCATION;VALUE=URI;X-ADDRESS=Short or Tall Eatery & Drink Hall 21050 135th Avenue North Rogers MN 55374 United States;X-APPLE-RADIUS=500;X-TITLE=21050 135th Avenue North:geo:-93.547324,45.200613
END:VEVENT
BEGIN:VEVENT
DTSTART;VALUE=DATE:20200519
DTEND;VALUE=DATE:20200520
DTSTAMP:20260425T090504
CREATED:20200213T233439Z
LAST-MODIFIED:20200213T233439Z
UID:10012381-1589846400-1589932799@www.shortortall.com
SUMMARY:Omni- Brewery Night
DESCRIPTION:Join us from 6pm-9pm for samples as well as 2 for 1’s on all Omni products.
URL:https://www.shortortall.com/calendar-event/omni-brewery-night-2/
LOCATION:21050 135th Avenue North\, Rogers\, MN\, 55374\, United States
END:VEVENT
BEGIN:VEVENT
DTSTART;VALUE=DATE:20200518
DTEND;VALUE=DATE:20200519
DTSTAMP:20260425T090504
CREATED:20191104T232136Z
LAST-MODIFIED:20220912T132351Z
UID:10012329-1589760000-1589846399@www.shortortall.com
SUMMARY:Online Orders Discount
DESCRIPTION:All online orders for takeout are 25% off using the promo code MONDAY.
URL:https://www.shortortall.com/calendar-event/online-orders-discount/2020-05-18/
LOCATION:Short or Tall Eatery & Drink Hall\, 21050 135th Avenue North\, Rogers\, MN\, 55374\, United States
GEO:45.200613;-93.547324
X-APPLE-STRUCTURED-LOCATION;VALUE=URI;X-ADDRESS=Short or Tall Eatery & Drink Hall 21050 135th Avenue North Rogers MN 55374 United States;X-APPLE-RADIUS=500;X-TITLE=21050 135th Avenue North:geo:-93.547324,45.200613
END:VEVENT
BEGIN:VEVENT
DTSTART;VALUE=DATE:20200512
DTEND;VALUE=DATE:20200513
DTSTAMP:20260425T090504
CREATED:20200213T233350Z
LAST-MODIFIED:20200213T233350Z
UID:10012380-1589241600-1589327999@www.shortortall.com
SUMMARY:Bent Paddle- Brewery Night
DESCRIPTION:Join us from 6pm-9pm for samples as well as 2 for 1’s on all Bent Paddle products.
URL:https://www.shortortall.com/calendar-event/bent-paddle-brewery-night-2/
LOCATION:21050 135th Avenue North\, Rogers\, MN\, 55374\, United States
END:VEVENT
BEGIN:VEVENT
DTSTART;VALUE=DATE:20200511
DTEND;VALUE=DATE:20200512
DTSTAMP:20260425T090504
CREATED:20191104T232136Z
LAST-MODIFIED:20220912T132351Z
UID:10012328-1589155200-1589241599@www.shortortall.com
SUMMARY:Online Orders Discount
DESCRIPTION:All online orders for takeout are 25% off using the promo code MONDAY.
URL:https://www.shortortall.com/calendar-event/online-orders-discount/2020-05-11/
LOCATION:Short or Tall Eatery & Drink Hall\, 21050 135th Avenue North\, Rogers\, MN\, 55374\, United States
GEO:45.200613;-93.547324
X-APPLE-STRUCTURED-LOCATION;VALUE=URI;X-ADDRESS=Short or Tall Eatery & Drink Hall 21050 135th Avenue North Rogers MN 55374 United States;X-APPLE-RADIUS=500;X-TITLE=21050 135th Avenue North:geo:-93.547324,45.200613
END:VEVENT
BEGIN:VEVENT
DTSTART;VALUE=DATE:20200505
DTEND;VALUE=DATE:20200506
DTSTAMP:20260425T090504
CREATED:20200213T233302Z
LAST-MODIFIED:20200213T233302Z
UID:10012379-1588636800-1588723199@www.shortortall.com
SUMMARY:Indeed- Brewery Night
DESCRIPTION:Join us from 6pm-9pm for samples as well as 2 for 1’s on all Indeed products.
URL:https://www.shortortall.com/calendar-event/indeed-brewery-night-2/
LOCATION:21050 135th Avenue North\, Rogers\, MN\, 55374\, United States
END:VEVENT
BEGIN:VEVENT
DTSTART;VALUE=DATE:20200504
DTEND;VALUE=DATE:20200505
DTSTAMP:20260425T090504
CREATED:20191104T232136Z
LAST-MODIFIED:20220912T132351Z
UID:10012327-1588550400-1588636799@www.shortortall.com
SUMMARY:Online Orders Discount
DESCRIPTION:All online orders for takeout are 25% off using the promo code MONDAY.
URL:https://www.shortortall.com/calendar-event/online-orders-discount/2020-05-04/
LOCATION:Short or Tall Eatery & Drink Hall\, 21050 135th Avenue North\, Rogers\, MN\, 55374\, United States
GEO:45.200613;-93.547324
X-APPLE-STRUCTURED-LOCATION;VALUE=URI;X-ADDRESS=Short or Tall Eatery & Drink Hall 21050 135th Avenue North Rogers MN 55374 United States;X-APPLE-RADIUS=500;X-TITLE=21050 135th Avenue North:geo:-93.547324,45.200613
END:VEVENT
BEGIN:VEVENT
DTSTART;VALUE=DATE:20200428
DTEND;VALUE=DATE:20200429
DTSTAMP:20260425T090504
CREATED:20200213T233156Z
LAST-MODIFIED:20220912T132616Z
UID:10012378-1588032000-1588118399@www.shortortall.com
SUMMARY:Fulton- Brewery Night
DESCRIPTION:Join us from 6pm-9pm for samples as well as 2 for 1’s on all Fulton products.
URL:https://www.shortortall.com/calendar-event/fulton-brewery-night/
LOCATION:21050 135th Avenue North\, Rogers\, MN\, 55374\, United States
END:VEVENT
BEGIN:VEVENT
DTSTART;VALUE=DATE:20200427
DTEND;VALUE=DATE:20200428
DTSTAMP:20260425T090504
CREATED:20191104T232136Z
LAST-MODIFIED:20220912T132351Z
UID:10012326-1587945600-1588031999@www.shortortall.com
SUMMARY:Online Orders Discount
DESCRIPTION:All online orders for takeout are 25% off using the promo code MONDAY.
URL:https://www.shortortall.com/calendar-event/online-orders-discount/2020-04-27/
LOCATION:Short or Tall Eatery & Drink Hall\, 21050 135th Avenue North\, Rogers\, MN\, 55374\, United States
GEO:45.200613;-93.547324
X-APPLE-STRUCTURED-LOCATION;VALUE=URI;X-ADDRESS=Short or Tall Eatery & Drink Hall 21050 135th Avenue North Rogers MN 55374 United States;X-APPLE-RADIUS=500;X-TITLE=21050 135th Avenue North:geo:-93.547324,45.200613
END:VEVENT
BEGIN:VEVENT
DTSTART;VALUE=DATE:20200421
DTEND;VALUE=DATE:20200422
DTSTAMP:20260425T090504
CREATED:20200213T233049Z
LAST-MODIFIED:20220912T132609Z
UID:10012377-1587427200-1587513599@www.shortortall.com
SUMMARY:Voyageur- Brewery Night
DESCRIPTION:Join us from 6pm-9pm for samples as well as 2 for 1’s on all Voyageur products.
URL:https://www.shortortall.com/calendar-event/voyageur-brewery-night/
LOCATION:21050 135th Avenue North\, Rogers\, MN\, 55374\, United States
END:VEVENT
BEGIN:VEVENT
DTSTART;VALUE=DATE:20200420
DTEND;VALUE=DATE:20200421
DTSTAMP:20260425T090504
CREATED:20191104T232136Z
LAST-MODIFIED:20220912T132351Z
UID:10012325-1587340800-1587427199@www.shortortall.com
SUMMARY:Online Orders Discount
DESCRIPTION:All online orders for takeout are 25% off using the promo code MONDAY.
URL:https://www.shortortall.com/calendar-event/online-orders-discount/2020-04-20/
LOCATION:Short or Tall Eatery & Drink Hall\, 21050 135th Avenue North\, Rogers\, MN\, 55374\, United States
GEO:45.200613;-93.547324
X-APPLE-STRUCTURED-LOCATION;VALUE=URI;X-ADDRESS=Short or Tall Eatery & Drink Hall 21050 135th Avenue North Rogers MN 55374 United States;X-APPLE-RADIUS=500;X-TITLE=21050 135th Avenue North:geo:-93.547324,45.200613
END:VEVENT
BEGIN:VEVENT
DTSTART;VALUE=DATE:20200414
DTEND;VALUE=DATE:20200415
DTSTAMP:20260425T090504
CREATED:20200213T232846Z
LAST-MODIFIED:20220912T132602Z
UID:10012376-1586822400-1586908799@www.shortortall.com
SUMMARY:Omni- Brewery Night
DESCRIPTION:Join us from 6pm-9pm for samples as well as 2 for 1’s on all Omni products.
URL:https://www.shortortall.com/calendar-event/omni-brewery-night/
LOCATION:21050 135th Avenue North\, Rogers\, MN\, 55374\, United States
END:VEVENT
BEGIN:VEVENT
DTSTART;VALUE=DATE:20200413
DTEND;VALUE=DATE:20200414
DTSTAMP:20260425T090504
CREATED:20191104T232136Z
LAST-MODIFIED:20220912T132351Z
UID:10012324-1586736000-1586822399@www.shortortall.com
SUMMARY:Online Orders Discount
DESCRIPTION:All online orders for takeout are 25% off using the promo code MONDAY.
URL:https://www.shortortall.com/calendar-event/online-orders-discount/2020-04-13/
LOCATION:Short or Tall Eatery & Drink Hall\, 21050 135th Avenue North\, Rogers\, MN\, 55374\, United States
GEO:45.200613;-93.547324
X-APPLE-STRUCTURED-LOCATION;VALUE=URI;X-ADDRESS=Short or Tall Eatery & Drink Hall 21050 135th Avenue North Rogers MN 55374 United States;X-APPLE-RADIUS=500;X-TITLE=21050 135th Avenue North:geo:-93.547324,45.200613
END:VEVENT
BEGIN:VEVENT
DTSTART;VALUE=DATE:20200407
DTEND;VALUE=DATE:20200408
DTSTAMP:20260425T090504
CREATED:20200213T232755Z
LAST-MODIFIED:20220912T132553Z
UID:10012375-1586217600-1586303999@www.shortortall.com
SUMMARY:Big Wood- Brewery Night
DESCRIPTION:Join us from 6pm-9pm for samples as well as 2 for 1’s on all Big Wood products.
URL:https://www.shortortall.com/calendar-event/big-wood-brewery-night/
LOCATION:21050 135th Avenue North\, Rogers\, MN\, 55374\, United States
END:VEVENT
BEGIN:VEVENT
DTSTART;VALUE=DATE:20200406
DTEND;VALUE=DATE:20200407
DTSTAMP:20260425T090504
CREATED:20191104T232136Z
LAST-MODIFIED:20220912T132351Z
UID:10012323-1586131200-1586217599@www.shortortall.com
SUMMARY:Online Orders Discount
DESCRIPTION:All online orders for takeout are 25% off using the promo code MONDAY.
URL:https://www.shortortall.com/calendar-event/online-orders-discount/2020-04-06/
LOCATION:Short or Tall Eatery & Drink Hall\, 21050 135th Avenue North\, Rogers\, MN\, 55374\, United States
GEO:45.200613;-93.547324
X-APPLE-STRUCTURED-LOCATION;VALUE=URI;X-ADDRESS=Short or Tall Eatery & Drink Hall 21050 135th Avenue North Rogers MN 55374 United States;X-APPLE-RADIUS=500;X-TITLE=21050 135th Avenue North:geo:-93.547324,45.200613
END:VEVENT
BEGIN:VEVENT
DTSTART;VALUE=DATE:20200331
DTEND;VALUE=DATE:20200401
DTSTAMP:20260425T090504
CREATED:20200213T232627Z
LAST-MODIFIED:20220912T132543Z
UID:10012374-1585612800-1585699199@www.shortortall.com
SUMMARY:Lupulin- Brewery Night
DESCRIPTION:Join us from 6pm-9pm for samples as well as 2 for 1’s on all Lupulin products.
URL:https://www.shortortall.com/calendar-event/lupulin-brewery-night/
LOCATION:21050 135th Avenue North\, Rogers\, MN\, 55374\, United States
END:VEVENT
BEGIN:VEVENT
DTSTART;VALUE=DATE:20200330
DTEND;VALUE=DATE:20200331
DTSTAMP:20260425T090504
CREATED:20191104T232136Z
LAST-MODIFIED:20220912T132351Z
UID:10012322-1585526400-1585612799@www.shortortall.com
SUMMARY:Online Orders Discount
DESCRIPTION:All online orders for takeout are 25% off using the promo code MONDAY.
URL:https://www.shortortall.com/calendar-event/online-orders-discount/2020-03-30/
LOCATION:Short or Tall Eatery & Drink Hall\, 21050 135th Avenue North\, Rogers\, MN\, 55374\, United States
GEO:45.200613;-93.547324
X-APPLE-STRUCTURED-LOCATION;VALUE=URI;X-ADDRESS=Short or Tall Eatery & Drink Hall 21050 135th Avenue North Rogers MN 55374 United States;X-APPLE-RADIUS=500;X-TITLE=21050 135th Avenue North:geo:-93.547324,45.200613
END:VEVENT
BEGIN:VEVENT
DTSTART;VALUE=DATE:20200324
DTEND;VALUE=DATE:20200325
DTSTAMP:20260425T090504
CREATED:20200213T232407Z
LAST-MODIFIED:20220912T132536Z
UID:10012373-1585008000-1585094399@www.shortortall.com
SUMMARY:Toppling Goliath- Brewery Night
DESCRIPTION:Join us from 6pm-9pm for samples as well as 2 for 1’s on all Toppling Goliath products.
URL:https://www.shortortall.com/calendar-event/toppling-goliath-brewery-night/
LOCATION:21050 135th Avenue North\, Rogers\, MN\, 55374\, United States
END:VEVENT
BEGIN:VEVENT
DTSTART;VALUE=DATE:20200323
DTEND;VALUE=DATE:20200324
DTSTAMP:20260425T090504
CREATED:20191104T232136Z
LAST-MODIFIED:20220912T132351Z
UID:10012321-1584921600-1585007999@www.shortortall.com
SUMMARY:Online Orders Discount
DESCRIPTION:All online orders for takeout are 25% off using the promo code MONDAY.
URL:https://www.shortortall.com/calendar-event/online-orders-discount/2020-03-23/
LOCATION:Short or Tall Eatery & Drink Hall\, 21050 135th Avenue North\, Rogers\, MN\, 55374\, United States
GEO:45.200613;-93.547324
X-APPLE-STRUCTURED-LOCATION;VALUE=URI;X-ADDRESS=Short or Tall Eatery & Drink Hall 21050 135th Avenue North Rogers MN 55374 United States;X-APPLE-RADIUS=500;X-TITLE=21050 135th Avenue North:geo:-93.547324,45.200613
END:VEVENT
BEGIN:VEVENT
DTSTART;VALUE=DATE:20200317
DTEND;VALUE=DATE:20200318
DTSTAMP:20260425T090504
CREATED:20200213T232314Z
LAST-MODIFIED:20220912T132526Z
UID:10012372-1584403200-1584489599@www.shortortall.com
SUMMARY:Indeed- Brewery Night
DESCRIPTION:Join us from 6pm-9pm for samples as well as 2 for 1’s on all Indeed products.
URL:https://www.shortortall.com/calendar-event/indeed-brewery-night/
LOCATION:21050 135th Avenue North\, Rogers\, MN\, 55374\, United States
END:VEVENT
BEGIN:VEVENT
DTSTART;VALUE=DATE:20200316
DTEND;VALUE=DATE:20200317
DTSTAMP:20260425T090504
CREATED:20191104T232136Z
LAST-MODIFIED:20220912T132351Z
UID:10012320-1584316800-1584403199@www.shortortall.com
SUMMARY:Online Orders Discount
DESCRIPTION:All online orders for takeout are 25% off using the promo code MONDAY.
URL:https://www.shortortall.com/calendar-event/online-orders-discount/2020-03-16/
LOCATION:Short or Tall Eatery & Drink Hall\, 21050 135th Avenue North\, Rogers\, MN\, 55374\, United States
GEO:45.200613;-93.547324
X-APPLE-STRUCTURED-LOCATION;VALUE=URI;X-ADDRESS=Short or Tall Eatery & Drink Hall 21050 135th Avenue North Rogers MN 55374 United States;X-APPLE-RADIUS=500;X-TITLE=21050 135th Avenue North:geo:-93.547324,45.200613
END:VEVENT
BEGIN:VEVENT
DTSTART;VALUE=DATE:20200310
DTEND;VALUE=DATE:20200311
DTSTAMP:20260425T090504
CREATED:20200213T232239Z
LAST-MODIFIED:20220912T132517Z
UID:10012371-1583798400-1583884799@www.shortortall.com
SUMMARY:Modist- Brewery Night
DESCRIPTION:Join us from 6pm-9pm for samples as well as 2 for 1’s on all Modist products.
URL:https://www.shortortall.com/calendar-event/modist-brewery-night/
LOCATION:21050 135th Avenue North\, Rogers\, MN\, 55374\, United States
END:VEVENT
BEGIN:VEVENT
DTSTART;VALUE=DATE:20200309
DTEND;VALUE=DATE:20200310
DTSTAMP:20260425T090504
CREATED:20191104T232136Z
LAST-MODIFIED:20220912T132351Z
UID:10012319-1583712000-1583798399@www.shortortall.com
SUMMARY:Online Orders Discount
DESCRIPTION:All online orders for takeout are 25% off using the promo code MONDAY.
URL:https://www.shortortall.com/calendar-event/online-orders-discount/2020-03-09/
LOCATION:Short or Tall Eatery & Drink Hall\, 21050 135th Avenue North\, Rogers\, MN\, 55374\, United States
GEO:45.200613;-93.547324
X-APPLE-STRUCTURED-LOCATION;VALUE=URI;X-ADDRESS=Short or Tall Eatery & Drink Hall 21050 135th Avenue North Rogers MN 55374 United States;X-APPLE-RADIUS=500;X-TITLE=21050 135th Avenue North:geo:-93.547324,45.200613
END:VEVENT
BEGIN:VEVENT
DTSTART;VALUE=DATE:20200303
DTEND;VALUE=DATE:20200304
DTSTAMP:20260425T090504
CREATED:20200213T232128Z
LAST-MODIFIED:20220912T132509Z
UID:10012370-1583193600-1583279999@www.shortortall.com
SUMMARY:Firestone Walker- Brewery Night
DESCRIPTION:Join us from 6pm-9pm for samples as well as 2 for 1’s on all Firestone Walker products.
URL:https://www.shortortall.com/calendar-event/firestone-walker-brewery-night/
LOCATION:21050 135th Avenue North\, Rogers\, MN\, 55374\, United States
END:VEVENT
BEGIN:VEVENT
DTSTART;VALUE=DATE:20200302
DTEND;VALUE=DATE:20200303
DTSTAMP:20260425T090504
CREATED:20191104T232136Z
LAST-MODIFIED:20220912T132351Z
UID:10012318-1583107200-1583193599@www.shortortall.com
SUMMARY:Online Orders Discount
DESCRIPTION:All online orders for takeout are 25% off using the promo code MONDAY.
URL:https://www.shortortall.com/calendar-event/online-orders-discount/2020-03-02/
LOCATION:Short or Tall Eatery & Drink Hall\, 21050 135th Avenue North\, Rogers\, MN\, 55374\, United States
GEO:45.200613;-93.547324
X-APPLE-STRUCTURED-LOCATION;VALUE=URI;X-ADDRESS=Short or Tall Eatery & Drink Hall 21050 135th Avenue North Rogers MN 55374 United States;X-APPLE-RADIUS=500;X-TITLE=21050 135th Avenue North:geo:-93.547324,45.200613
END:VEVENT
END:VCALENDAR